BEGIN:VCALENDAR
VERSION:2.0
PRODID:icalendar-ruby
CALSCALE:GREGORIAN
METHOD:PUBLISH
BEGIN:VEVENT
DTSTAMP:20260422T104656Z
UID:13-1864773@brbcmichiana.com
DTSTART:20260920T153000Z
DTEND:20260920T164500Z
CLASS:PUBLIC
CREATED:20260421T200252
DESCRIPTION:
LAST-MODIFIED:20260421T200252
LOCATION:
SUMMARY:Worship service
URL;VALUE=URI:https://brbcmichiana.com/events/worship-service--13/2026-09-2
 0
ATTACH;FILENAME=Sunday Worship.jpg;FMTTYPE=image/jpeg:https://dq5pwpg1q8ru0
 .cloudfront.net/2020/11/04/11/57/50/aa516445-9cf3-49fa-b636-224bfcd91bf5/S
 unday%20Worship.jpg
END:VEVENT
END:VCALENDAR
