BEGIN:VCALENDAR
VERSION:2.0
PRODID:icalendar-ruby
CALSCALE:GREGORIAN
METHOD:PUBLISH
BEGIN:VEVENT
DTSTAMP:20260424T093155Z
UID:13-1878267@brbcmichiana.com
DTSTART:20261101T163000Z
DTEND:20261101T174500Z
CLASS:PUBLIC
CREATED:20260423T213458
DESCRIPTION:
LAST-MODIFIED:20260423T213458
LOCATION:
SUMMARY:Worship service
URL;VALUE=URI:https://brbcmichiana.com/events/worship-service--13/2026-11-0
 1
ATTACH;FILENAME=Sunday Worship.jpg;FMTTYPE=image/jpeg:https://dq5pwpg1q8ru0
 .cloudfront.net/2020/11/04/11/57/50/aa516445-9cf3-49fa-b636-224bfcd91bf5/S
 unday%20Worship.jpg
END:VEVENT
END:VCALENDAR
